BEGIN:VCALENDAR
VERSION:2.0
PRODID:-//https://www.daiquirideckshirts.cdmsrq.info///NONSGML kigkonsult.se iCalcreator 2.10.15//
METHOD:PUBLISH
BEGIN:VEVENT
UID:20260421T044111UTC-8090AOVAcd@https://www.daiquirideckshirts.cdmsrq.inf
 o/
DTSTAMP:20260421T044111Z
DESCRIPTION: https://www.daiquirideckshirts.cdmsrq.info/component/rseventsp
 ro/event/4025-9p-dj-sam-the-bull?Itemid=101
DTSTART;VALUE=DATE:20260529
LOCATION:Daiquiri Deck Siesta Key Village (5250 Ocean Blvd\, Sarasota\, FL 
 34242)
SUMMARY: 9p DJ Sam the Bull
URL:https://www.daiquirideckshirts.cdmsrq.info/component/rseventspro/event/
 4025-9p-dj-sam-the-bull?Itemid=101
END:VEVENT
END:VCALENDAR
