BEGIN:VCALENDAR
VERSION:2.0
PRODID:-//https://www.daiquirideckshirts.cdmsrq.info///NONSGML kigkonsult.se iCalcreator 2.10.15//
METHOD:PUBLISH
BEGIN:VEVENT
UID:20260421T000055UTC-4191i6THvV@https://www.daiquirideckshirts.cdmsrq.inf
 o/
DTSTAMP:20260421T000055Z
DESCRIPTION: https://www.daiquirideckshirts.cdmsrq.info/component/rseventsp
 ro/event/4127-5pm-chad-tallman?Itemid=101
DTSTART;VALUE=DATE:20260526
LOCATION:Daiquiri Deck Bradenton Beach (107 Bridge St\, Bradenton Beach\, F
 L 34217)
SUMMARY:5pm Chad Tallman
URL:https://www.daiquirideckshirts.cdmsrq.info/component/rseventspro/event/
 4127-5pm-chad-tallman?Itemid=101
END:VEVENT
END:VCALENDAR
