BEGIN:VCALENDAR
VERSION:2.0
PRODID:-//https://www.daiquirideckshirts.cdmsrq.info///NONSGML kigkonsult.se iCalcreator 2.10.15//
METHOD:PUBLISH
BEGIN:VEVENT
UID:20260421T030400UTC-4539zgmUSk@https://www.daiquirideckshirts.cdmsrq.inf
 o/
DTSTAMP:20260421T030400Z
DESCRIPTION: https://www.daiquirideckshirts.cdmsrq.info/component/rseventsp
 ro/event/4129-6p-logan-obrien?Itemid=101
DTSTART;VALUE=DATE:20260528
LOCATION:Daiquiri Deck Bradenton Beach (107 Bridge St\, Bradenton Beach\, F
 L 34217)
SUMMARY:6p Logan O'Brien
URL:https://www.daiquirideckshirts.cdmsrq.info/component/rseventspro/event/
 4129-6p-logan-obrien?Itemid=101
END:VEVENT
END:VCALENDAR
