BEGIN:VCALENDAR
VERSION:2.0
PRODID:-//https://www.daiquirideckshirts.cdmsrq.info///NONSGML kigkonsult.se iCalcreator 2.10.15//
METHOD:PUBLISH
BEGIN:VEVENT
UID:20260422T154149UTC-0592u9SZTa@https://www.daiquirideckshirts.cdmsrq.inf
 o/
DTSTAMP:20260422T154149Z
DESCRIPTION: https://www.daiquirideckshirts.cdmsrq.info/component/rseventsp
 ro/event/4153-4p-gary-alexander?Itemid=101
DTSTART;VALUE=DATE:20260521
LOCATION:Daiquiri Deck Island of Venice (300 W Venice Ave\, Venice\, FL 342
 85)
SUMMARY:4p Gary Alexander
URL:https://www.daiquirideckshirts.cdmsrq.info/component/rseventspro/event/
 4153-4p-gary-alexander?Itemid=101
END:VEVENT
END:VCALENDAR
