BEGIN:VCALENDAR
VERSION:2.0
PRODID:-//https://www.daiquirideckshirts.cdmsrq.info///NONSGML kigkonsult.se iCalcreator 2.10.15//
METHOD:PUBLISH
BEGIN:VEVENT
UID:20260422T171335UTC-4463DSdFOC@https://www.daiquirideckshirts.cdmsrq.inf
 o/
DTSTAMP:20260422T171335Z
DESCRIPTION: https://www.daiquirideckshirts.cdmsrq.info/component/rseventsp
 ro/event/4171-12p-jake-ariel?Itemid=101
DTSTART;VALUE=DATE:20260522
LOCATION:Daiquiri Deck Island of Venice (300 W Venice Ave\, Venice\, FL 342
 85)
SUMMARY:12p Jake & Ariel  
URL:https://www.daiquirideckshirts.cdmsrq.info/component/rseventspro/event/
 4171-12p-jake-ariel?Itemid=101
END:VEVENT
END:VCALENDAR
